Package: netZooR Version: 1.11.0 Command: E:\biocbuild\bbs-3.21-bioc\R\bin\R.exe CMD INSTALL netZooR StartedAt: 2025-02-20 16:55:44 -0500 (Thu, 20 Feb 2025) EndedAt: 2025-02-20 16:57:25 -0500 (Thu, 20 Feb 2025) EllapsedTime: 101.4 seconds RetCode: 0 Status: OK