Package: netZooR Version: 1.11.0 Command: E:\biocbuild\bbs-3.21-bioc\R\bin\R.exe CMD check --no-multiarch --install=check:netZooR.install-out.txt --library=E:\biocbuild\bbs-3.21-bioc\R\library --no-vignettes --timings netZooR_1.11.0.tar.gz StartedAt: 2025-02-21 03:55:14 -0500 (Fri, 21 Feb 2025) EndedAt: 2025-02-21 04:05:21 -0500 (Fri, 21 Feb 2025) EllapsedTime: 606.8 seconds RetCode: 0 Status: OK CheckDir: netZooR.Rcheck Warnings: 0