Package: netZooR Version: 1.11.0 Command: /home/biocbuild/bbs-3.21-bioc/R/bin/R CMD INSTALL netZooR StartedAt: 2025-02-20 16:01:31 -0500 (Thu, 20 Feb 2025) EndedAt: 2025-02-20 16:01:32 -0500 (Thu, 20 Feb 2025) EllapsedTime: 1.0 seconds RetCode: 1 Status: ERROR