############################################################################## ############################################################################## ### ### Running command: ### ### /home/biocbuild/bbs-3.21-bioc/R/bin/R CMD build --keep-empty-dirs --no-resave-data netZooR ### ############################################################################## ############################################################################## * checking for file ‘netZooR/DESCRIPTION’ ... OK * preparing ‘netZooR’: * checking DESCRIPTION meta-information ... OK * installing the package to build vignettes ----------------------------------- ERROR: dependency ‘GOstats’ is not available for package ‘netZooR’ Perhaps try a variation of: install.packages('GOstats') * removing ‘/tmp/Rtmpe15NPl/Rinst1d96be43007657/netZooR’ ----------------------------------- ERROR: package installation failed