Package: netDx Version: 1.19.1 Command: /home/biocbuild/bbs-3.21-bioc/R/bin/R CMD build --keep-empty-dirs --no-resave-data netDx StartedAt: 2025-02-20 18:27:49 -0500 (Thu, 20 Feb 2025) EndedAt: 2025-02-20 18:31:15 -0500 (Thu, 20 Feb 2025) EllapsedTime: 206.3 seconds RetCode: 1 Status: ERROR PackageFile: None PackageFileSize: NA