Package: netDx Version: 1.19.1 Command: /Library/Frameworks/R.framework/Resources/bin/R CMD build --keep-empty-dirs --no-resave-data netDx StartedAt: 2025-02-20 17:06:54 -0500 (Thu, 20 Feb 2025) EndedAt: 2025-02-20 17:08:13 -0500 (Thu, 20 Feb 2025) EllapsedTime: 78.9 seconds RetCode: 1 Status: ERROR PackageFile: None PackageFileSize: NA