############################################################################## ############################################################################## ### ### Running command: ### ### /home/biocbuild/bbs-3.21-bioc/R/bin/R CMD build --keep-empty-dirs --no-resave-data nempi ### ############################################################################## ############################################################################## * checking for file ‘nempi/DESCRIPTION’ ... OK * preparing ‘nempi’: * checking DESCRIPTION meta-information ... OK * installing the package to build vignettes ----------------------------------- ERROR: dependencies ‘mnem’, ‘epiNEM’ are not available for package ‘nempi’ Perhaps try a variation of: install.packages(c('mnem', 'epiNEM')) * removing ‘/tmp/Rtmprp8hyy/Rinst1d78605878cd7/nempi’ ----------------------------------- ERROR: package installation failed