Package: nempi Version: 1.15.0 Command: /Library/Frameworks/R.framework/Resources/bin/R CMD check --install=check:nempi.install-out.txt --library=/Library/Frameworks/R.framework/Resources/library --no-vignettes --timings nempi_1.15.0.tar.gz StartedAt: 2025-02-20 20:28:54 -0500 (Thu, 20 Feb 2025) EndedAt: 2025-02-20 20:29:46 -0500 (Thu, 20 Feb 2025) EllapsedTime: 51.6 seconds RetCode: 0 Status: OK CheckDir: nempi.Rcheck Warnings: 0