Package: nempi Version: 1.15.0 Command: /Library/Frameworks/R.framework/Resources/bin/R CMD build --keep-empty-dirs --no-resave-data nempi StartedAt: 2025-02-20 17:06:37 -0500 (Thu, 20 Feb 2025) EndedAt: 2025-02-20 17:06:54 -0500 (Thu, 20 Feb 2025) EllapsedTime: 17.2 seconds RetCode: 0 Status: OK PackageFile: nempi_1.15.0.tar.gz PackageFileSize: 603.1 KiB