Package: nearBynding Version: 1.17.0 Command: /Library/Frameworks/R.framework/Resources/bin/R CMD check --install=check:nearBynding.install-out.txt --library=/Library/Frameworks/R.framework/Resources/library --no-vignettes --timings nearBynding_1.17.0.tar.gz StartedAt: 2025-02-20 22:00:10 -0500 (Thu, 20 Feb 2025) EndedAt: 2025-02-20 22:05:27 -0500 (Thu, 20 Feb 2025) EllapsedTime: 316.7 seconds RetCode: 0 Status: OK CheckDir: nearBynding.Rcheck Warnings: 0