Package: nearBynding Version: 1.17.0 Command: /Library/Frameworks/R.framework/Resources/bin/R CMD build --keep-empty-dirs --no-resave-data nearBynding StartedAt: 2025-02-20 17:34:57 -0500 (Thu, 20 Feb 2025) EndedAt: 2025-02-20 17:36:29 -0500 (Thu, 20 Feb 2025) EllapsedTime: 91.3 seconds RetCode: 0 Status: OK PackageFile: nearBynding_1.17.0.tar.gz PackageFileSize: 3.342 MiB