Package: nearBynding Version: 1.17.0 Command: rm -rf nearBynding.buildbin-libdir && mkdir nearBynding.buildbin-libdir && /Users/biocbuild/BBS/utils/build-universal.sh nearBynding_1.17.0.tar.gz /Library/Frameworks/R.framework/Resources/bin/R nearBynding.buildbin-libdir StartedAt: 2025-02-21 00:42:55 -0500 (Fri, 21 Feb 2025) EndedAt: 2025-02-21 00:43:51 -0500 (Fri, 21 Feb 2025) EllapsedTime: 55.5 seconds RetCode: 0 Status: OK PackageFile: nearBynding_1.17.0.tgz PackageFileSize: 3.214 MiB