Package: ndexr Version: 1.29.0 Command: /Library/Frameworks/R.framework/Resources/bin/R CMD build --keep-empty-dirs --no-resave-data ndexr StartedAt: 2025-02-19 17:07:37 -0500 (Wed, 19 Feb 2025) EndedAt: 2025-02-19 17:07:44 -0500 (Wed, 19 Feb 2025) EllapsedTime: 7.1 seconds RetCode: 0 Status: OK PackageFile: ndexr_1.29.0.tar.gz PackageFileSize: 947 KiB