Package: ndexr Version: 1.29.0 Command: rm -rf ndexr.buildbin-libdir && mkdir ndexr.buildbin-libdir && /Users/biocbuild/BBS/utils/build-universal.sh ndexr_1.29.0.tar.gz /Library/Frameworks/R.framework/Resources/bin/R ndexr.buildbin-libdir StartedAt: 2025-02-19 22:31:08 -0500 (Wed, 19 Feb 2025) EndedAt: 2025-02-19 22:31:10 -0500 (Wed, 19 Feb 2025) EllapsedTime: 2.0 seconds RetCode: 0 Status: OK PackageFile: ndexr_1.29.0.tgz PackageFileSize: 619.8 KiB