Package: ncdfFlow Version: 2.53.1 Command: E:\biocbuild\bbs-3.21-bioc\R\bin\R.exe CMD INSTALL ncdfFlow StartedAt: 2025-02-19 15:39:26 -0500 (Wed, 19 Feb 2025) EndedAt: 2025-02-19 15:40:05 -0500 (Wed, 19 Feb 2025) EllapsedTime: 39.1 seconds RetCode: 0 Status: OK