Package: ncdfFlow Version: 2.53.1 Command: E:\biocbuild\bbs-3.21-bioc\R\bin\R.exe CMD check --no-multiarch --install=check:ncdfFlow.install-out.txt --library=E:\biocbuild\bbs-3.21-bioc\R\library --no-vignettes --timings ncdfFlow_2.53.1.tar.gz StartedAt: 2025-02-20 03:36:05 -0500 (Thu, 20 Feb 2025) EndedAt: 2025-02-20 03:38:21 -0500 (Thu, 20 Feb 2025) EllapsedTime: 135.4 seconds RetCode: 0 Status: WARNINGS CheckDir: ncdfFlow.Rcheck Warnings: 2