Package: ncdfFlow Version: 2.53.1 Command: rm -rf ncdfFlow.buildbin-libdir && mkdir ncdfFlow.buildbin-libdir && E:\biocbuild\bbs-3.21-bioc\R\bin\R.exe CMD INSTALL --build --library=ncdfFlow.buildbin-libdir ncdfFlow_2.53.1.tar.gz StartedAt: 2025-02-20 08:18:52 -0500 (Thu, 20 Feb 2025) EndedAt: 2025-02-20 08:19:51 -0500 (Thu, 20 Feb 2025) EllapsedTime: 59.1 seconds RetCode: 0 Status: OK PackageFile: ncdfFlow_2.53.1.zip PackageFileSize: 1.884 MiB