Package: ncdfFlow Version: 2.53.1 Command: /Library/Frameworks/R.framework/Resources/bin/R CMD INSTALL ncdfFlow StartedAt: 2025-02-20 15:12:10 -0500 (Thu, 20 Feb 2025) EndedAt: 2025-02-20 15:12:34 -0500 (Thu, 20 Feb 2025) EllapsedTime: 23.8 seconds RetCode: 0 Status: OK