Package: ncdfFlow Version: 2.53.1 Command: /Library/Frameworks/R.framework/Resources/bin/R CMD check --install=check:ncdfFlow.install-out.txt --library=/Library/Frameworks/R.framework/Resources/library --no-vignettes --timings ncdfFlow_2.53.1.tar.gz StartedAt: 2025-02-20 21:59:04 -0500 (Thu, 20 Feb 2025) EndedAt: 2025-02-20 22:00:49 -0500 (Thu, 20 Feb 2025) EllapsedTime: 105.3 seconds RetCode: 0 Status: WARNINGS CheckDir: ncdfFlow.Rcheck Warnings: 3