Package: ncdfFlow Version: 2.53.1 Command: /Library/Frameworks/R.framework/Resources/bin/R CMD build --keep-empty-dirs --no-resave-data ncdfFlow StartedAt: 2025-02-20 17:34:34 -0500 (Thu, 20 Feb 2025) EndedAt: 2025-02-20 17:35:09 -0500 (Thu, 20 Feb 2025) EllapsedTime: 34.3 seconds RetCode: 0 Status: OK PackageFile: ncdfFlow_2.53.1.tar.gz PackageFileSize: 198.8 KiB