Package: ncdfFlow Version: 2.53.1 Command: rm -rf ncdfFlow.buildbin-libdir && mkdir ncdfFlow.buildbin-libdir && /Users/biocbuild/BBS/utils/build-universal.sh ncdfFlow_2.53.1.tar.gz /Library/Frameworks/R.framework/Resources/bin/R ncdfFlow.buildbin-libdir StartedAt: 2025-02-21 00:42:52 -0500 (Fri, 21 Feb 2025) EndedAt: 2025-02-21 00:43:16 -0500 (Fri, 21 Feb 2025) EllapsedTime: 24.2 seconds RetCode: 0 Status: OK PackageFile: ncdfFlow_2.53.1.tgz PackageFileSize: 2.036 MiB