Package: ncdfFlow Version: 2.53.1 Command: /home/biocbuild/R/R/bin/R CMD build --keep-empty-dirs --no-resave-data ncdfFlow StartedAt: 2025-01-29 00:48:44 -0000 (Wed, 29 Jan 2025) EndedAt: 2025-01-29 00:49:18 -0000 (Wed, 29 Jan 2025) EllapsedTime: 34.0 seconds RetCode: 0 Status: OK PackageFile: ncdfFlow_2.53.1.tar.gz PackageFileSize: 194.5 KiB