Package: ncdfFlow Version: 2.53.1 Command: /Library/Frameworks/R.framework/Resources/bin/R CMD INSTALL ncdfFlow StartedAt: 2025-02-19 15:03:56 -0500 (Wed, 19 Feb 2025) EndedAt: 2025-02-19 15:04:03 -0500 (Wed, 19 Feb 2025) EllapsedTime: 7.0 seconds RetCode: 0 Status: OK