Package: ncRNAtools Version: 1.17.0 Command: /Library/Frameworks/R.framework/Resources/bin/R CMD check --install=check:ncRNAtools.install-out.txt --library=/Library/Frameworks/R.framework/Resources/library --no-vignettes --timings ncRNAtools_1.17.0.tar.gz StartedAt: 2025-02-18 20:30:46 -0500 (Tue, 18 Feb 2025) EndedAt: 2025-02-18 20:32:08 -0500 (Tue, 18 Feb 2025) EllapsedTime: 81.9 seconds RetCode: 0 Status: OK CheckDir: ncRNAtools.Rcheck Warnings: 0