Package: ncGTW Version: 1.21.0 Command: chmod a+r ncGTW -R && E:\biocbuild\bbs-3.21-bioc\R\bin\R.exe CMD build --keep-empty-dirs --no-resave-data ncGTW StartedAt: 2025-02-20 20:22:55 -0500 (Thu, 20 Feb 2025) EndedAt: 2025-02-20 20:27:47 -0500 (Thu, 20 Feb 2025) EllapsedTime: 292.2 seconds RetCode: 0 Status: OK PackageFile: ncGTW_1.21.0.tar.gz PackageFileSize: 1.646 MiB