Package: ncGTW Version: 1.21.0 Command: /home/biocbuild/bbs-3.21-bioc/R/bin/R CMD build --keep-empty-dirs --no-resave-data ncGTW StartedAt: 2025-02-20 18:26:17 -0500 (Thu, 20 Feb 2025) EndedAt: 2025-02-20 18:29:30 -0500 (Thu, 20 Feb 2025) EllapsedTime: 193.2 seconds RetCode: 0 Status: OK PackageFile: ncGTW_1.21.0.tar.gz PackageFileSize: 2.238 MiB