Package: ncGTW Version: 1.21.0 Command: /home/biocbuild/R/R/bin/R CMD INSTALL ncGTW StartedAt: 2025-01-29 20:14:58 -0000 (Wed, 29 Jan 2025) EndedAt: 2025-01-29 20:16:25 -0000 (Wed, 29 Jan 2025) EllapsedTime: 87.0 seconds RetCode: 0 Status: OK