Package: ncGTW Version: 1.21.0 Command: /Library/Frameworks/R.framework/Resources/bin/R CMD check --install=check:ncGTW.install-out.txt --library=/Library/Frameworks/R.framework/Resources/library --no-vignettes --timings ncGTW_1.21.0.tar.gz StartedAt: 2025-02-20 20:28:22 -0500 (Thu, 20 Feb 2025) EndedAt: 2025-02-20 20:31:43 -0500 (Thu, 20 Feb 2025) EllapsedTime: 201.5 seconds RetCode: 0 Status: OK CheckDir: ncGTW.Rcheck Warnings: 0