Package: mzR Version: 2.41.4 Command: /home/biocbuild/bbs-3.21-bioc/R/bin/R CMD check --install=check:mzR.install-out.txt --library=/home/biocbuild/bbs-3.21-bioc/R/site-library --timings mzR_2.41.4.tar.gz StartedAt: 2025-02-19 00:22:00 -0500 (Wed, 19 Feb 2025) EndedAt: 2025-02-19 00:23:24 -0500 (Wed, 19 Feb 2025) EllapsedTime: 84.1 seconds RetCode: 0 Status: WARNINGS CheckDir: mzR.Rcheck Warnings: 2