Package: mzR Version: 2.41.4 Command: /home/biocbuild/bbs-3.21-bioc/R/bin/R CMD build --keep-empty-dirs --no-resave-data mzR StartedAt: 2025-02-18 18:14:42 -0500 (Tue, 18 Feb 2025) EndedAt: 2025-02-18 18:24:08 -0500 (Tue, 18 Feb 2025) EllapsedTime: 565.7 seconds RetCode: 0 Status: OK PackageFile: mzR_2.41.4.tar.gz PackageFileSize: 7.364 MiB