Package: mzR Version: 2.41.4 Command: /Library/Frameworks/R.framework/Resources/bin/R CMD INSTALL mzR StartedAt: 2025-02-18 15:08:43 -0500 (Tue, 18 Feb 2025) EndedAt: 2025-02-18 15:18:09 -0500 (Tue, 18 Feb 2025) EllapsedTime: 566.1 seconds RetCode: 0 Status: OK