Package: mzID Version: 1.45.0 Command: E:\biocbuild\bbs-3.21-bioc\R\bin\R.exe CMD INSTALL mzID StartedAt: 2025-02-20 15:25:04 -0500 (Thu, 20 Feb 2025) EndedAt: 2025-02-20 15:25:33 -0500 (Thu, 20 Feb 2025) EllapsedTime: 29.7 seconds RetCode: 0 Status: OK