Package: mzID Version: 1.45.0 Command: E:\biocbuild\bbs-3.21-bioc\R\bin\R.exe CMD check --no-multiarch --install=check:mzID.install-out.txt --library=E:\biocbuild\bbs-3.21-bioc\R\library --no-vignettes --timings mzID_1.45.0.tar.gz StartedAt: 2025-02-21 03:47:42 -0500 (Fri, 21 Feb 2025) EndedAt: 2025-02-21 03:48:44 -0500 (Fri, 21 Feb 2025) EllapsedTime: 62.5 seconds RetCode: 0 Status: OK CheckDir: mzID.Rcheck Warnings: 0