Package: mzID Version: 1.45.0 Command: chmod a+r mzID -R && E:\biocbuild\bbs-3.21-bioc\R\bin\R.exe CMD build --keep-empty-dirs --no-resave-data mzID StartedAt: 2025-02-20 20:21:04 -0500 (Thu, 20 Feb 2025) EndedAt: 2025-02-20 20:21:26 -0500 (Thu, 20 Feb 2025) EllapsedTime: 22.0 seconds RetCode: 0 Status: OK PackageFile: mzID_1.45.0.tar.gz PackageFileSize: 576.3 KiB