Package: mzID Version: 1.45.0 Command: /home/biocbuild/bbs-3.21-bioc/R/bin/R CMD INSTALL mzID StartedAt: 2025-02-20 15:09:07 -0500 (Thu, 20 Feb 2025) EndedAt: 2025-02-20 15:09:12 -0500 (Thu, 20 Feb 2025) EllapsedTime: 4.4 seconds RetCode: 0 Status: OK