Package: mzID Version: 1.45.0 Command: /Library/Frameworks/R.framework/Resources/bin/R CMD check --install=check:mzID.install-out.txt --library=/Library/Frameworks/R.framework/Resources/library --no-vignettes --timings mzID_1.45.0.tar.gz StartedAt: 2025-02-20 21:58:24 -0500 (Thu, 20 Feb 2025) EndedAt: 2025-02-20 21:59:12 -0500 (Thu, 20 Feb 2025) EllapsedTime: 48.5 seconds RetCode: 0 Status: OK CheckDir: mzID.Rcheck Warnings: 0