Package: mzID Version: 1.45.0 Command: /Library/Frameworks/R.framework/Resources/bin/R CMD build --keep-empty-dirs --no-resave-data mzID StartedAt: 2025-02-20 17:33:59 -0500 (Thu, 20 Feb 2025) EndedAt: 2025-02-20 17:34:14 -0500 (Thu, 20 Feb 2025) EllapsedTime: 14.9 seconds RetCode: 0 Status: OK PackageFile: mzID_1.45.0.tar.gz PackageFileSize: 582.1 KiB