Package: myvariant Version: 1.37.0 Command: /home/biocbuild/bbs-3.21-bioc/R/bin/R CMD INSTALL myvariant StartedAt: 2025-02-20 15:54:44 -0500 (Thu, 20 Feb 2025) EndedAt: 2025-02-20 15:55:25 -0500 (Thu, 20 Feb 2025) EllapsedTime: 41.3 seconds RetCode: 0 Status: OK