Package: myvariant Version: 1.37.0 Command: /home/biocbuild/bbs-3.21-bioc/R/bin/R CMD build --keep-empty-dirs --no-resave-data myvariant StartedAt: 2025-02-20 18:25:12 -0500 (Thu, 20 Feb 2025) EndedAt: 2025-02-20 18:26:16 -0500 (Thu, 20 Feb 2025) EllapsedTime: 64.0 seconds RetCode: 0 Status: OK PackageFile: myvariant_1.37.0.tar.gz PackageFileSize: 158.2 KiB