Package: myvariant Version: 1.37.0 Command: /Library/Frameworks/R.framework/Resources/bin/R CMD check --install=check:myvariant.install-out.txt --library=/Library/Frameworks/R.framework/Resources/library --no-vignettes --timings myvariant_1.37.0.tar.gz StartedAt: 2025-02-16 21:51:24 -0500 (Sun, 16 Feb 2025) EndedAt: 2025-02-16 21:56:34 -0500 (Sun, 16 Feb 2025) EllapsedTime: 310.7 seconds RetCode: 0 Status: OK CheckDir: myvariant.Rcheck Warnings: 0