Package: myvariant Version: 1.37.0 Command: /Library/Frameworks/R.framework/Resources/bin/R CMD INSTALL myvariant StartedAt: 2025-02-21 15:15:47 -0500 (Fri, 21 Feb 2025) EndedAt: 2025-02-21 15:16:04 -0500 (Fri, 21 Feb 2025) EllapsedTime: 16.5 seconds RetCode: 0 Status: OK