Package: myvariant Version: 1.37.0 Command: rm -rf myvariant.buildbin-libdir && mkdir myvariant.buildbin-libdir && /Users/biocbuild/BBS/utils/build-universal.sh myvariant_1.37.0.tar.gz /Library/Frameworks/R.framework/Resources/bin/R myvariant.buildbin-libdir StartedAt: 2025-02-21 23:05:06 -0500 (Fri, 21 Feb 2025) EndedAt: 2025-02-21 23:05:24 -0500 (Fri, 21 Feb 2025) EllapsedTime: 18.3 seconds RetCode: 0 Status: OK PackageFile: myvariant_1.37.0.tgz PackageFileSize: 218.6 KiB