Package: mygene Version: 1.43.0 Command: /home/biocbuild/bbs-3.21-bioc/R/bin/R CMD build --keep-empty-dirs --no-resave-data mygene StartedAt: 2025-02-20 18:25:10 -0500 (Thu, 20 Feb 2025) EndedAt: 2025-02-20 18:34:30 -0500 (Thu, 20 Feb 2025) EllapsedTime: 560.6 seconds RetCode: 0 Status: OK PackageFile: mygene_1.43.0.tar.gz PackageFileSize: 166.6 KiB