Package: mygene Version: 1.43.0 Command: /Library/Frameworks/R.framework/Resources/bin/R CMD check --install=check:mygene.install-out.txt --library=/Library/Frameworks/R.framework/Resources/library --no-vignettes --timings mygene_1.43.0.tar.gz StartedAt: 2025-02-20 20:26:22 -0500 (Thu, 20 Feb 2025) EndedAt: 2025-02-20 20:28:05 -0500 (Thu, 20 Feb 2025) EllapsedTime: 102.4 seconds RetCode: 0 Status: OK CheckDir: mygene.Rcheck Warnings: 0