Package: mygene Version: 1.43.0 Command: rm -rf mygene.buildbin-libdir && mkdir mygene.buildbin-libdir && /Users/biocbuild/BBS/utils/build-universal.sh mygene_1.43.0.tar.gz /Library/Frameworks/R.framework/Resources/bin/R mygene.buildbin-libdir StartedAt: 2025-02-20 22:27:41 -0500 (Thu, 20 Feb 2025) EndedAt: 2025-02-20 22:27:58 -0500 (Thu, 20 Feb 2025) EllapsedTime: 17.3 seconds RetCode: 0 Status: OK PackageFile: mygene_1.43.0.tgz PackageFileSize: 223.3 KiB