Package: musicatk Version: 2.1.0 Command: /home/biocbuild/bbs-3.21-bioc/R/bin/R CMD INSTALL musicatk StartedAt: 2025-02-19 15:57:46 -0500 (Wed, 19 Feb 2025) EndedAt: 2025-02-19 15:58:31 -0500 (Wed, 19 Feb 2025) EllapsedTime: 44.6 seconds RetCode: 0 Status: OK