Package: musicatk Version: 2.1.0 Command: /Library/Frameworks/R.framework/Resources/bin/R CMD INSTALL musicatk StartedAt: 2025-02-20 15:44:18 -0500 (Thu, 20 Feb 2025) EndedAt: 2025-02-20 15:45:15 -0500 (Thu, 20 Feb 2025) EllapsedTime: 56.9 seconds RetCode: 0 Status: OK