Package: musicatk Version: 2.1.0 Command: /Library/Frameworks/R.framework/Resources/bin/R CMD check --install=check:musicatk.install-out.txt --library=/Library/Frameworks/R.framework/Resources/library --no-vignettes --timings musicatk_2.1.0.tar.gz StartedAt: 2025-02-20 21:57:36 -0500 (Thu, 20 Feb 2025) EndedAt: 2025-02-20 22:10:50 -0500 (Thu, 20 Feb 2025) EllapsedTime: 793.3 seconds RetCode: 0 Status: OK CheckDir: musicatk.Rcheck Warnings: 0