Package: musicatk Version: 2.1.0 Command: /Library/Frameworks/R.framework/Resources/bin/R CMD INSTALL musicatk StartedAt: 2025-02-20 15:29:44 -0500 (Thu, 20 Feb 2025) EndedAt: 2025-02-20 15:30:01 -0500 (Thu, 20 Feb 2025) EllapsedTime: 17.6 seconds RetCode: 0 Status: OK