Package: musicatk Version: 2.1.0 Command: /Library/Frameworks/R.framework/Resources/bin/R CMD build --keep-empty-dirs --no-resave-data musicatk StartedAt: 2025-02-20 17:05:00 -0500 (Thu, 20 Feb 2025) EndedAt: 2025-02-20 17:07:06 -0500 (Thu, 20 Feb 2025) EllapsedTime: 126.4 seconds RetCode: 0 Status: OK PackageFile: musicatk_2.1.0.tar.gz PackageFileSize: 3.106 MiB